BEGIN:VCALENDAR
VERSION:2.0
PRODID:-//Фондация Калпатару - ECPv6.15.20//NONSGML v1.0//EN
CALSCALE:GREGORIAN
METHOD:PUBLISH
X-WR-CALNAME:Фондация Калпатару
X-ORIGINAL-URL:https://kalpataru.eu
X-WR-CALDESC:Събития за Фондация Калпатару
REFRESH-INTERVAL;VALUE=DURATION:PT1H
X-Robots-Tag:noindex
X-PUBLISHED-TTL:PT1H
BEGIN:VTIMEZONE
TZID:Europe/Sofia
BEGIN:DAYLIGHT
TZOFFSETFROM:+0200
TZOFFSETTO:+0300
TZNAME:EEST
DTSTART:20250330T010000
END:DAYLIGHT
BEGIN:STANDARD
TZOFFSETFROM:+0300
TZOFFSETTO:+0200
TZNAME:EET
DTSTART:20251026T010000
END:STANDARD
BEGIN:DAYLIGHT
TZOFFSETFROM:+0200
TZOFFSETTO:+0300
TZNAME:EEST
DTSTART:20260329T010000
END:DAYLIGHT
BEGIN:STANDARD
TZOFFSETFROM:+0300
TZOFFSETTO:+0200
TZNAME:EET
DTSTART:20261025T010000
END:STANDARD
BEGIN:DAYLIGHT
TZOFFSETFROM:+0200
TZOFFSETTO:+0300
TZNAME:EEST
DTSTART:20270328T010000
END:DAYLIGHT
BEGIN:STANDARD
TZOFFSETFROM:+0300
TZOFFSETTO:+0200
TZNAME:EET
DTSTART:20271031T010000
END:STANDARD
END:VTIMEZONE
BEGIN:VEVENT
DTSTART;TZID=Europe/Sofia:20260514T190000
DTEND;TZID=Europe/Sofia:20260514T203000
DTSTAMP:20260423T170250
CREATED:20260207T114738Z
LAST-MODIFIED:20260418T074646Z
UID:6444-1778785200-1778790600@kalpataru.eu
SUMMARY:Как практикуваме доброта?
DESCRIPTION:Цикъл беседи Посланията на Ведите за щастлив живот \nОрганизирани от Духовна общност Мъдра усмивка – пространство на знание и радост\, създадено от вдъхновение и любов към Ведите за среща на хора\, които търсят пътя на мъдростта. \nПод егидата на Фондация Калпатару – международна организация\, която има за цел да популяризира изкуствата\, красотата и познанието като път за подобряване на качеството на човешкия живот. \nБеседа 7:  Как практикуваме доброта? \nСпециален гост: Аделина Недкова \nОсновни акценти: \n\n Какво е доброта \n Какви качества има добрият човек\n Как култивираме качества \n Какво е практикуване\, практика \n Непоклатима добронамереност \n Доброта и перспективата от 500 години\n\nКоя е Аделина Недкова? \nАделина Недкова работи в сферата на развитието на бизнес партньорства в софтуерна компания\, с над 20 години опит в динамична и отговорна среда. Тя е съпруга и майка на две деца. \nАделина е фина поетеса с дълбок усет към вътрешния свят. В духовния си път и творчеството си тя съчетава поетичното виждане с практична мъдрост\, превръщайки вътрешните прозрения в достъпни и човешки послания. \nТя носи естествен усет към добротата като живо преживяване – не като идея\, а като отношение\, присъствие и избор. Нейното участие в беседата носи най-важното – примерът. \nПрограма на вечерта: \n19:00 – 19:15\n• Въведение от Благовест Белчев\n• Представяне на специалния гост \n19:15 – 20:45 \n\n Откъде идва светлината в живота ни? Разговор с Аделина Недкова\n Дискусия с въпроси и отговори\n\n20:45 – 21:00 \n\n Заключителни послания на Свами Тиртха\, Аделина Недкова и Благовест Белчев\n Анонс на следващи събития
URL:https://kalpataru.eu/event/%d0%ba%d0%b0%d0%ba-%d0%bf%d1%80%d0%b0%d0%ba%d1%82%d0%b8%d0%ba%d1%83%d0%b2%d0%b0%d0%bc%d0%b5-%d0%b4%d0%be%d0%b1%d1%80%d0%be%d1%82%d0%b0/
LOCATION:hOUR SPACE\, ул. Дякон Игнатий 19\, зала "КОСМОС"\, София\, Bulgaria
CATEGORIES:Себеосъзнаване
ATTACH;FMTTYPE=image/png:https://kalpataru.eu/wp-content/uploads/2026/02/2026-05-14-Б_7-Визия-Как-практикуваме-доброта-с-Аделина-Недкова.png
ORGANIZER;CN="%D0%91%D0%BB%D0%B0%D0%B3%D0%BE%D0%B2%D0%B5%D1%81%D1%82 %D0%91%D0%B5%D0%BB%D1%87%D0%B5%D0%B2":MAILTO:events@kalpataru.eu
END:VEVENT
BEGIN:VEVENT
DTSTART;TZID=Europe/Sofia:20260518T183000
DTEND;TZID=Europe/Sofia:20260518T193000
DTSTAMP:20260423T170250
CREATED:20260418T080158Z
LAST-MODIFIED:20260418T081405Z
UID:6487-1779129000-1779132600@kalpataru.eu
SUMMARY:"Преди изгрева" премиера Пловдив - документален филм за Свами Тиртха
DESCRIPTION:„Преди изгрева“ е вдъхновяващ документален разказ за вътрешното пътешествие на Свами Тиртха: история за търсене\, съмнение и духовно пробуждане. Филмът проследява живота му\, започнал в годините на зрелия социализъм в Унгария\, когато като млад човек той се стреми да разбере света и себе си отвъд наложените догми. \nПреминавайки през академична кариера като преподавател в университета в Печ\, той постепенно усеща призива на по-дълбок духовен път. Избирайки аскетичен начин на живот в сърцето на Европа\, Свами Тиртха поема по пътя на вярата и личното преобразяване\, вдъхновявайки хора от различни страни и култури. \n„Преди изгрева“ е филм за силата на вътрешното търсене\, за смелостта да последващ своя път и за онзи тих\, но дълбок процес\, чрез който животът придобива нов смисъл и светлина. \n“Преди изгрева”\nВреметраене: 55 минути\nСценарий: Георги Тошев\nОператор: Стефан Н. Щерев\nРежисьор: Ема Константинова\nПродуцент: Калпатару
URL:https://kalpataru.eu/event/%d0%bf%d1%80%d0%b5%d0%b4%d0%b8-%d0%b8%d0%b7%d0%b3%d1%80%d0%b5%d0%b2%d0%b0-%d0%bf%d1%80%d0%b5%d0%bc%d0%b8%d0%b5%d1%80%d0%b0-%d0%b4%d0%be%d0%ba%d1%83%d0%bc%d0%b5%d0%bd%d1%82%d0%b0%d0%bb%d0%b5%d0%bd-3/
LOCATION:кино Лъки\, ул. У. Гладстон 1\, Пловдив
CATEGORIES:Култура,Себеосъзнаване
ATTACH;FMTTYPE=image/jpeg:https://kalpataru.eu/wp-content/uploads/2026/04/2026-05-1920-Фб-банер-филм-за-Преди-изгрева.jpg
ORGANIZER;CN="%D0%9A%D0%B0%D0%BB%D0%BF%D0%B0%D1%82%D0%B0%D1%80%D1%83":MAILTO:events@kalpataru.eu
END:VEVENT
BEGIN:VEVENT
DTSTART;TZID=Europe/Sofia:20260519T180000
DTEND;TZID=Europe/Sofia:20260519T190000
DTSTAMP:20260423T170250
CREATED:20260418T075640Z
LAST-MODIFIED:20260418T081355Z
UID:6481-1779213600-1779217200@kalpataru.eu
SUMMARY:"Преди изгрева" премиера София - документален филм за Свами Тиртха
DESCRIPTION:„Преди изгрева“ е вдъхновяващ документален разказ за вътрешното пътешествие на Свами Тиртха: история за търсене\, съмнение и духовно пробуждане. Филмът проследява живота му\, започнал в годините на зрелия социализъм в Унгария\, когато като млад човек той се стреми да разбере света и себе си отвъд наложените догми. \nПреминавайки през академична кариера като преподавател в университета в Печ\, той постепенно усеща призива на по-дълбок духовен път. Избирайки аскетичен начин на живот в сърцето на Европа\, Свами Тиртха поема по пътя на вярата и личното преобразяване\, вдъхновявайки хора от различни страни и култури. \n„Преди изгрева“ е филм за силата на вътрешното търсене\, за смелостта да последващ своя път и за онзи тих\, но дълбок процес\, чрез който животът придобива нов смисъл и светлина. \n“Преди изгрева”\nВреметраене: 55 минути\nСценарий: Георги Тошев\nОператор: Стефан Н. Щерев\nРежисьор: Ема Константинова\nПродуцент: Калпатару
URL:https://kalpataru.eu/event/%d0%bf%d1%80%d0%b5%d0%b4%d0%b8-%d0%b8%d0%b7%d0%b3%d1%80%d0%b5%d0%b2%d0%b0-%d0%bf%d1%80%d0%b5%d0%bc%d0%b8%d0%b5%d1%80%d0%b0-%d0%b4%d0%be%d0%ba%d1%83%d0%bc%d0%b5%d0%bd%d1%82%d0%b0%d0%bb%d0%b5%d0%bd/
LOCATION:кино Одеон\, бул. "Патриарх Евтимий" 1\, София\, Bulgaria
CATEGORIES:Култура,Себеосъзнаване
ATTACH;FMTTYPE=image/jpeg:https://kalpataru.eu/wp-content/uploads/2026/04/2026-05-1920-Фб-банер-филм-за-Преди-изгрева.jpg
ORGANIZER;CN="%D0%9A%D0%B0%D0%BB%D0%BF%D0%B0%D1%82%D0%B0%D1%80%D1%83":MAILTO:events@kalpataru.eu
END:VEVENT
BEGIN:VEVENT
DTSTART;TZID=Europe/Sofia:20260520T180000
DTEND;TZID=Europe/Sofia:20260520T190000
DTSTAMP:20260423T170250
CREATED:20260418T075723Z
LAST-MODIFIED:20260418T081330Z
UID:6485-1779300000-1779303600@kalpataru.eu
SUMMARY:"Преди изгрева" премиера София- документален филм за Свами Тиртха
DESCRIPTION:„Преди изгрева“ е вдъхновяващ документален разказ за вътрешното пътешествие на Свами Тиртха: история за търсене\, съмнение и духовно пробуждане. Филмът проследява живота му\, започнал в годините на зрелия социализъм в Унгария\, когато като млад човек той се стреми да разбере света и себе си отвъд наложените догми. \nПреминавайки през академична кариера като преподавател в университета в Печ\, той постепенно усеща призива на по-дълбок духовен път. Избирайки аскетичен начин на живот в сърцето на Европа\, Свами Тиртха поема по пътя на вярата и личното преобразяване\, вдъхновявайки хора от различни страни и култури. \n„Преди изгрева“ е филм за силата на вътрешното търсене\, за смелостта да последващ своя път и за онзи тих\, но дълбок процес\, чрез който животът придобива нов смисъл и светлина. \n“Преди изгрева”\nВреметраене: 55 минути\nСценарий: Георги Тошев\nОператор: Стефан Н. Щерев\nРежисьор: Ема Константинова\nПродуцент: Калпатару
URL:https://kalpataru.eu/event/%d0%bf%d1%80%d0%b5%d0%b4%d0%b8-%d0%b8%d0%b7%d0%b3%d1%80%d0%b5%d0%b2%d0%b0-%d0%bf%d1%80%d0%b5%d0%bc%d0%b8%d0%b5%d1%80%d0%b0-%d0%b4%d0%be%d0%ba%d1%83%d0%bc%d0%b5%d0%bd%d1%82%d0%b0%d0%bb%d0%b5%d0%bd-2/
LOCATION:кино Одеон\, бул. "Патриарх Евтимий" 1\, София\, Bulgaria
CATEGORIES:Култура,Себеосъзнаване
ATTACH;FMTTYPE=image/jpeg:https://kalpataru.eu/wp-content/uploads/2026/04/2026-05-1920-Фб-банер-филм-за-Преди-изгрева.jpg
ORGANIZER;CN="%D0%9A%D0%B0%D0%BB%D0%BF%D0%B0%D1%82%D0%B0%D1%80%D1%83":MAILTO:events@kalpataru.eu
END:VEVENT
BEGIN:VEVENT
DTSTART;TZID=Europe/Sofia:20260624T051500
DTEND;TZID=Europe/Sofia:20260624T070000
DTSTAMP:20260423T170250
CREATED:20260421T101152Z
LAST-MODIFIED:20260421T101152Z
UID:6556-1782278100-1782284400@kalpataru.eu
SUMMARY:Еньовден 2026
DESCRIPTION:Това е едно събитие само за жени. И е безплатно. \nКалпатару те кани да посрещнем заедно един от най-вълшебните изгреви в годината: този на Еньовден. \nДа възродим древна българска традиция\, свързана с лятното слънцестоене\, хармонизиране на природните стихии и опитомяване магическата мощ на билките. Да се свържем с корените си и да почерпим сила от тях. \nПо стара българска традиция ще съберем билки\, ще ги наречем за здраве\, ще посрещнем слънцето с молитва и ще танцуваме хванати за ръце. Ще благодарим на Майката Земя\, ще се умием в благословената роса и ще се свържем със силата на огъня. \nЛокация и транспорт \nМясто за среща: Горна Баня\, по пътя за Бонсови поляни\, (спирка Кошарите на автобус 103). най-добре е да последваш този линк за точната локация: https://goo.gl/maps/nTUkbuEVsTTygMiR8 \nИ тъй като по това време сутринта е достъпно само с кола\, организираме се помежду си за споделен транспорт. Непременно влез в тази фейсбук група\, за да се разпределим по колите. \nКак да се подготвиш? \n– Облечи се в нещо красиво\, женствено и бяло. \n– Разпусни косите си и нека босите ти нозе да усетят допира на земята. (ако не си готова за босо ходене\, може и с обувки) \n✂️ Носи кошничка или шал\, където да събираш билки\, може и нещо за постилане на земята. Много е полезно да имаш ножичка. \n🌅 Изгревът е малко преди шест сутринта. Срещата ни ще продължи докъм седем\, а след това има предостатъчно време да стигнеш навреме за другите си дела. Опитай да си навреме\, не по-късно от 5:15 на точката за среща. \nСъбитието се провежда за пета поредна година\, организирано от фондация Калпатару. \nНяма такса за участие\, добре дошли са и вашите дечица\, подходящо е и за домашни любимци. \nДобре е да попълниш тази форма за регистрация\, за да знаем за колко участници се подготвяме.
URL:https://kalpataru.eu/event/enyovden2026/
LOCATION:Горна Баня\, сп. Кошарите на автобус 103.\, София\, 1000\, Bulgaria
CATEGORIES:Култура
ATTACH;FMTTYPE=image/jpeg:https://kalpataru.eu/wp-content/uploads/2026/04/Website-Header-Еньовден-2026.jpg
ORGANIZER;CN="%D0%9A%D0%B0%D0%BB%D0%BF%D0%B0%D1%82%D0%B0%D1%80%D1%83":MAILTO:events@kalpataru.eu
END:VEVENT
END:VCALENDAR